BEGIN:VCALENDAR
VERSION:2.0
PRODID:-// - ECPv6.15.20//NONSGML v1.0//EN
CALSCALE:GREGORIAN
METHOD:PUBLISH
X-ORIGINAL-URL:https://www.aa-iowa.org
X-WR-CALDESC:Events for 
REFRESH-INTERVAL;VALUE=DURATION:PT1H
X-Robots-Tag:noindex
X-PUBLISHED-TTL:PT1H
BEGIN:VTIMEZONE
TZID:America/New_York
BEGIN:DAYLIGHT
TZOFFSETFROM:-0500
TZOFFSETTO:-0400
TZNAME:EDT
DTSTART:20250309T070000
END:DAYLIGHT
BEGIN:STANDARD
TZOFFSETFROM:-0400
TZOFFSETTO:-0500
TZNAME:EST
DTSTART:20251102T060000
END:STANDARD
BEGIN:DAYLIGHT
TZOFFSETFROM:-0500
TZOFFSETTO:-0400
TZNAME:EDT
DTSTART:20260308T070000
END:DAYLIGHT
BEGIN:STANDARD
TZOFFSETFROM:-0400
TZOFFSETTO:-0500
TZNAME:EST
DTSTART:20261101T060000
END:STANDARD
BEGIN:DAYLIGHT
TZOFFSETFROM:-0500
TZOFFSETTO:-0400
TZNAME:EDT
DTSTART:20270314T070000
END:DAYLIGHT
BEGIN:STANDARD
TZOFFSETFROM:-0400
TZOFFSETTO:-0500
TZNAME:EST
DTSTART:20271107T060000
END:STANDARD
END:VTIMEZONE
BEGIN:VEVENT
DTSTART;TZID=America/New_York:20260612T150000
DTEND;TZID=America/New_York:20260615T120000
DTSTAMP:20260424T101912
CREATED:20251101T205206Z
LAST-MODIFIED:20260120T002626Z
UID:81196-1781276400-1781524800@www.aa-iowa.org
SUMMARY:Area 24 Spring Conference
DESCRIPTION:Area 24 Spring Conference Flyer
URL:https://www.aa-iowa.org/event/area-24-spring-conference-4/
LOCATION:Iowa Valley College\, 3702 S Center St\, Marshalltown\, IA\, 50158\, United States
END:VEVENT
BEGIN:VEVENT
DTSTART;TZID=America/New_York:20260809T090000
DTEND;TZID=America/New_York:20260809T170000
DTSTAMP:20260424T101912
CREATED:20250918T213025Z
LAST-MODIFIED:20260118T185204Z
UID:81126-1786266000-1786294800@www.aa-iowa.org
SUMMARY:Area Business Meeting
DESCRIPTION:
URL:https://www.aa-iowa.org/event/area-business-meeting-3/
LOCATION:MACC\, 709 S Center St\, Marshalltown\, IA\, 50158\, United States
END:VEVENT
END:VCALENDAR